BEGIN:VCALENDAR
VERSION:2.0
PRODID:-//eventon.com NONSGML v1.0//EN
CALSCALE:GREGORIAN
METHOD:PUBLISH
BEGIN:VEVENT
UID:69e737f0a8509
DTSTAMP:20260421T084016Z
DTSTART:20200210T130000Z
DTEND:20200210T200000Z
LOCATION:VHCN Ampsenseweg 15\,  7241 ND Lochem
SUMMARY:Opstellingen
DESCRIPTION:Opstellingen\nhttps://www.lichtdeboer.nl/events/opstellingen-2/
URL:https://www.lichtdeboer.nl/events/opstellingen-2/
END:VEVENT
END:VCALENDAR