BEGIN:VCALENDAR
VERSION:2.0
PRODID:-//eventon.com NONSGML v1.0//EN
CALSCALE:GREGORIAN
METHOD:PUBLISH
BEGIN:VEVENT
UID:69e4ce236774e
DTSTAMP:20260419T124419Z
DTSTART:20210206T083000Z
DTEND:20210206T160000Z
LOCATION:VHCN Ampsenseweg 15\,  7241 ND Lochem
SUMMARY:Master Practitioner (M20) | Certificatie
DESCRIPTION:Trainers: Machteld Licht en Toon de Boer\nhttps://www.lichtdebo
 er.nl/events/master-practitioner-m20-certificatie/
URL:https://www.lichtdeboer.nl/events/master-practitioner-m20-certificatie/
END:VEVENT
END:VCALENDAR