BEGIN:VCALENDAR
VERSION:2.0
PRODID:-//eventon.com NONSGML v1.0//EN
CALSCALE:GREGORIAN
METHOD:PUBLISH
BEGIN:VEVENT
UID:69e7380a18001
DTSTAMP:20260421T084042Z
DTSTART:20210215T130000Z
DTEND:20210215T200000Z
LOCATION:VHCN Ampsenseweg 15\,  7241 ND Lochem
SUMMARY:Opstellingen
DESCRIPTION:Opstellingen\nhttps://www.lichtdeboer.nl/events/opstellingen-20
 /
URL:https://www.lichtdeboer.nl/events/opstellingen-20/
END:VEVENT
END:VCALENDAR