BEGIN:VCALENDAR
VERSION:2.0
PRODID:-//eventon.com NONSGML v1.0//EN
CALSCALE:GREGORIAN
METHOD:PUBLISH
BEGIN:VEVENT
UID:69e7360e30d86
DTSTAMP:20260421T083214Z
DTSTART:20220114T203000Z
DTEND:20220115T033000Z
LOCATION:VHCN Ampsenseweg 15\,  7241 ND Lochem
SUMMARY:Practitioner (P21)
DESCRIPTION:Trainers: Toon de Boer en Daniela Depau\nhttps://www.lichtdeboe
 r.nl/events/practitioner-p21-11/
URL:https://www.lichtdeboer.nl/events/practitioner-p21-11/
END:VEVENT
END:VCALENDAR