BEGIN:VCALENDAR
VERSION:2.0
PRODID:-//eventon.com NONSGML v1.0//EN
CALSCALE:GREGORIAN
METHOD:PUBLISH
BEGIN:VEVENT
UID:69e5e8067a42b
DTSTAMP:20260420T084702Z
DTSTART:20221008T203000Z
DTEND:20221009T040000Z
LOCATION:VHCN Ampsenseweg 15\,  7241 ND Lochem
SUMMARY:Master Practitioner (M22) | IoPT
DESCRIPTION:Trainers: Toon de Boer en Daniela Depau\nhttps://www.lichtdeboe
 r.nl/events/master-practitioner-m22-iopt-3/
URL:https://www.lichtdeboer.nl/events/master-practitioner-m22-iopt-3/
END:VEVENT
END:VCALENDAR