BEGIN:VCALENDAR
VERSION:2.0
PRODID:-//eventon.com NONSGML v1.0//EN
CALSCALE:GREGORIAN
METHOD:PUBLISH
BEGIN:VEVENT
UID:69e4cddda68e3
DTSTAMP:20260419T124309Z
DTSTART:20221118T203000Z
DTEND:20221119T033000Z
LOCATION:VHCN Ampsenseweg 15\,  7241 ND Lochem
SUMMARY:Practitioner (P22.1) | IoPT
DESCRIPTION:Trainers: Toon de Boer en Daniela Depau\nhttps://www.lichtdeboe
 r.nl/events/practitioner-p22-1-12/
URL:https://www.lichtdeboer.nl/events/practitioner-p22-1-12/
END:VEVENT
END:VCALENDAR