BEGIN:VCALENDAR
VERSION:2.0
PRODID:-//eventon.com NONSGML v1.0//EN
CALSCALE:GREGORIAN
METHOD:PUBLISH
BEGIN:VEVENT
UID:69e735bf285a2
DTSTAMP:20260421T083055Z
DTSTART:20230114T203000Z
DTEND:20230115T033000Z
LOCATION:VHCN Ampsenseweg 15\,  7241 ND Lochem
SUMMARY:Practitioner (P22.1)
DESCRIPTION:Trainers: Toon de Boer en Daniela Depau\nhttps://www.lichtdeboe
 r.nl/events/practitioner-p22-1-16/
URL:https://www.lichtdeboer.nl/events/practitioner-p22-1-16/
END:VEVENT
END:VCALENDAR