BEGIN:VCALENDAR
VERSION:2.0
PRODID:-//eventon.com NONSGML v1.0//EN
CALSCALE:GREGORIAN
METHOD:PUBLISH
BEGIN:VEVENT
UID:69e5fae4f084a
DTSTAMP:20260420T100732Z
DTSTART:20221019T203000Z
DTEND:20221020T033000Z
LOCATION:VHCN Ampsenseweg 15\,  7241 ND Lochem
SUMMARY:IoPT-basis (22.2) | Blok 3
DESCRIPTION:Trainers: Toon de Boer en Daniela Depau\nhttps://www.lichtdeboe
 r.nl/events/iopt-basis-22-2-blok-3-2/
URL:https://www.lichtdeboer.nl/events/iopt-basis-22-2-blok-3-2/
END:VEVENT
END:VCALENDAR