BEGIN:VCALENDAR
VERSION:2.0
PRODID:-//eventon.com NONSGML v1.0//EN
CALSCALE:GREGORIAN
METHOD:PUBLISH
BEGIN:VEVENT
UID:69e5e85fe2b03
DTSTAMP:20260420T084831Z
DTSTART:20230512T073000Z
DTEND:20230512T150000Z
LOCATION:VHCN Ampsenseweg 15\,  7241 ND Lochem
SUMMARY:Master Practitioner (M23)
DESCRIPTION:Trainers: Toon de Boer en Daniela Depau\nhttps://www.lichtdeboe
 r.nl/events/master-practitioner-m23-4/
URL:https://www.lichtdeboer.nl/events/master-practitioner-m23-4/
END:VEVENT
END:VCALENDAR