BEGIN:VCALENDAR
VERSION:2.0
PRODID:-//eventon.com NONSGML v1.0//EN
CALSCALE:GREGORIAN
METHOD:PUBLISH
BEGIN:VEVENT
UID:69e88dd17648e
DTSTAMP:20260422T085857Z
DTSTART:20250220T121500Z
DTEND:20250220T160000Z
LOCATION:VHCN Ampsenseweg 15\,  7241 ND Lochem
SUMMARY:Leerwerkgroep 16
DESCRIPTION:Begeleiders: Toon de Boer en Hanneke Leijdekkers\nhttps://www.l
 ichtdeboer.nl/events/leerwerkgroep-16-4/
URL:https://www.lichtdeboer.nl/events/leerwerkgroep-16-4/
END:VEVENT
END:VCALENDAR